BEGIN:VCALENDAR
VERSION:2.0
PRODID:-//USAuctions - ECPv6.15.14//NONSGML v1.0//EN
CALSCALE:GREGORIAN
METHOD:PUBLISH
X-ORIGINAL-URL:https://usauctionco.com
X-WR-CALDESC:Events for USAuctions
REFRESH-INTERVAL;VALUE=DURATION:PT1H
X-Robots-Tag:noindex
X-PUBLISHED-TTL:PT1H
BEGIN:VTIMEZONE
TZID:America/Los_Angeles
BEGIN:DAYLIGHT
TZOFFSETFROM:-0800
TZOFFSETTO:-0700
TZNAME:PDT
DTSTART:20250309T100000
END:DAYLIGHT
BEGIN:STANDARD
TZOFFSETFROM:-0700
TZOFFSETTO:-0800
TZNAME:PST
DTSTART:20251102T090000
END:STANDARD
BEGIN:DAYLIGHT
TZOFFSETFROM:-0800
TZOFFSETTO:-0700
TZNAME:PDT
DTSTART:20260308T100000
END:DAYLIGHT
BEGIN:STANDARD
TZOFFSETFROM:-0700
TZOFFSETTO:-0800
TZNAME:PST
DTSTART:20261101T090000
END:STANDARD
BEGIN:DAYLIGHT
TZOFFSETFROM:-0800
TZOFFSETTO:-0700
TZNAME:PDT
DTSTART:20270314T100000
END:DAYLIGHT
BEGIN:STANDARD
TZOFFSETFROM:-0700
TZOFFSETTO:-0800
TZNAME:PST
DTSTART:20271107T090000
END:STANDARD
END:VTIMEZONE
BEGIN:VEVENT
DTSTART;VALUE=DATE:20260313
DTEND;VALUE=DATE:20260327
DTSTAMP:20260423T072639
CREATED:20260319T004014Z
LAST-MODIFIED:20260319T004014Z
UID:7081-1773360000-1774569599@usauctionco.com
SUMMARY:Proxibid Online - HAZEL HOUSE AUCTION
DESCRIPTION:Live on Proxibid! Amazing antiques including: Kawai Black Piano\, accordion\, a home full of collectibles\, vintage items\, music\, and a ton of craft items. Large and small lots for end users and reseller alike. New and old.\nLots begin closing March 26 at 4 PM PT on Proxibid. \nLots Start Closing: Thursday\, March 26\, 2025  |  4:00 PM Pacific \nPreview Date & Times: Preview is same day as the auction closing. Call for a time slot. 408-497-0339 \nCheckout Date & Times: Check out will be Sat\, Sun and Monday March 27\, 28\, 29. You will need to call me for a time slot. \nSpecial Terms:  See Terms of sale tab for more info \nLocation: Morgan Hill\, CA for driving purposes \nDescription: Browse through amazing antiques including: Kawai Black Piano\, accordion\, a home full of collectibles\, vintage items\, music\, and a ton of craft items. Large and small lots for end users and reseller alike. New and old. \nWhether you’re a collector\, reseller\, or just love finding hidden gems\, this auction has something for everyone. Don’t miss your chance to score high-value items at auction prices — everything sells to the highest bidder! \n\n  \n\n\nIf you have any specific questions please call me at 408-497-0339.\n  \n\nSEE ALL PHOTOS at Proxibid & BID NOW!\n\n 
URL:https://usauctionco.com/event/proxibid-online-hazel-house-auction/
CATEGORIES:bay area auctions,online auction,online bidding,online proxibid
ATTACH;FMTTYPE=image/png:https://usauctionco.com/wp-content/uploads/2026/03/proxi-hazel.png
ORGANIZER;CN="US Auctions":MAILTO:usauctions.cc@gmail.com
END:VEVENT
END:VCALENDAR