BEGIN:VCALENDAR
VERSION:2.0
PRODID:-//USAuctions - ECPv6.15.14//NONSGML v1.0//EN
CALSCALE:GREGORIAN
METHOD:PUBLISH
X-WR-CALNAME:USAuctions
X-ORIGINAL-URL:https://usauctionco.com
X-WR-CALDESC:Events for USAuctions
REFRESH-INTERVAL;VALUE=DURATION:PT1H
X-Robots-Tag:noindex
X-PUBLISHED-TTL:PT1H
BEGIN:VTIMEZONE
TZID:America/Los_Angeles
BEGIN:DAYLIGHT
TZOFFSETFROM:-0800
TZOFFSETTO:-0700
TZNAME:PDT
DTSTART:20250309T100000
END:DAYLIGHT
BEGIN:STANDARD
TZOFFSETFROM:-0700
TZOFFSETTO:-0800
TZNAME:PST
DTSTART:20251102T090000
END:STANDARD
BEGIN:DAYLIGHT
TZOFFSETFROM:-0800
TZOFFSETTO:-0700
TZNAME:PDT
DTSTART:20260308T100000
END:DAYLIGHT
BEGIN:STANDARD
TZOFFSETFROM:-0700
TZOFFSETTO:-0800
TZNAME:PST
DTSTART:20261101T090000
END:STANDARD
BEGIN:DAYLIGHT
TZOFFSETFROM:-0800
TZOFFSETTO:-0700
TZNAME:PDT
DTSTART:20270314T100000
END:DAYLIGHT
BEGIN:STANDARD
TZOFFSETFROM:-0700
TZOFFSETTO:-0800
TZNAME:PST
DTSTART:20271107T090000
END:STANDARD
END:VTIMEZONE
BEGIN:VEVENT
DTSTART;TZID=America/Los_Angeles:20260428T110000
DTEND;TZID=America/Los_Angeles:20260428T123000
DTSTAMP:20260424T032253
CREATED:20260424T005323Z
LAST-MODIFIED:20260424T011957Z
UID:7114-1777374000-1777379400@usauctionco.com
SUMMARY:ABANDONED PROPERTY AUCTION | POP UP SAN JOSE
DESCRIPTION:Join us for a Pop Up Auction. Featuring a clean home with plenty opportunities to decorate your space and/or Air BnB\, etc. Luxury brand women’s clothing\, art\, yard art\, furnishings and costume jewelry. Rare finds for buyers\, collectors\, or resellers alike.\nTues April 28 @ 12PM PST with preview @ 11AM PST! \nABANDONED PROPERTY AUCTION – San Jose\, CA \nDate: Tuesday\, April 28\, 2026 \nPreview: 11AM \nAuction: 12PM \nAddress: 279 Cresta Vista\, San Jose\, CA 95119 \nDetails: SAME DAY REMOVAL IS A MUST. The house has been sold so we must be mindful of carpet and walls please. Same day removal as clean out will be taking place the following day. No extensions. We have 75 cataloged items converting from online to LIVE. Preview at 11 am Auction will begin at 1200 and will be run IRT \n————————————————————Photo Gallery———————————————————— \n\n\n\n		\n				\n						\n			\n				\n			\n		\n							\n			\n				\n						\n			\n				\n			\n		\n							\n			\n				\n						\n			\n				\n			\n		\n							\n			\n				\n						\n			\n				\n			\n		\n							\n			\n				\n						\n			\n				\n			\n		\n							\n			\n				\n						\n			\n				\n			\n		\n							\n			\n				\n						\n			\n				\n			\n		\n							\n			\n				\n						\n			\n				\n			\n		\n							\n			\n				\n						\n			\n				\n			\n		\n							\n			\n				\n						\n			\n				\n			\n		\n							\n			\n				\n						\n			\n				\n			\n		\n							\n			\n				\n						\n			\n				\n			\n		\n							\n			\n				\n						\n			\n				\n			\n		\n							\n			\n				\n						\n			\n				\n			\n		\n							\n			\n				\n						\n			\n				\n			\n		\n							\n			\n				\n						\n			\n				\n			\n		\n							\n			\n				\n						\n			\n				\n			\n		\n							\n			\n				\n						\n			\n				\n			\n		\n							\n			\n				\n						\n			\n				\n			\n		\n							\n			\n				\n						\n			\n				\n			\n		\n							\n			\n				\n						\n			\n				\n			\n		\n							\n			\n				\n						\n			\n				\n			\n		\n							\n			\n				\n						\n			\n				\n			\n		\n							\n			\n				\n						\n			\n				\n			\n		\n							\n			\n	\n	\n\n	\n		\n		1\n2\n...\n21\n►
URL:https://usauctionco.com/event/abandoned-property-auction-pop-up-san-jose/
LOCATION:Pop Up San Jose Auction\, 279 Cresta Vista\, San Jose\, 95119\, United States
CATEGORIES:bay area auctions,estate auction,Estate Sale,San Jose Auction,upcoming auctions
ATTACH;FMTTYPE=image/png:https://usauctionco.com/wp-content/uploads/2026/04/pop-up-sj.png
ORGANIZER;CN="US Auctions":MAILTO:usauctions.cc@gmail.com
END:VEVENT
END:VCALENDAR